BEGIN:VCALENDAR
PRODID:-//eluceo/ical//2.0/EN
VERSION:2.0
CALSCALE:GREGORIAN
BEGIN:VEVENT
UID:9564230e6bed0eabe81e42c846df596a
DTSTAMP:20260424T102530Z
SUMMARY:NJC Neilah Service followed by Break-the-Fast
DESCRIPTION:Jewish Federation of Greater Naples\nCommunity Calendar\nhttps:
 //jewishnaples.org/calendar/calendar16269\n\nNJC Neilah Service followed b
 y Break-the-Fast
DTSTART;TZID=America/New_York:20150923T171500
DTEND;TZID=America/New_York:20150923T171500
END:VEVENT
END:VCALENDAR
