BEGIN:VCALENDAR
PRODID:-//eluceo/ical//2.0/EN
VERSION:2.0
CALSCALE:GREGORIAN
BEGIN:VEVENT
UID:f6eee549e37eb75bbbf7a27f54a00cfa
DTSTAMP:20260422T203222Z
SUMMARY:TS Yom Kippur Neilah Service
DESCRIPTION:Jewish Federation of Greater Naples\nCommunity Calendar\nhttps:
 //jewishnaples.org/calendar/calendar16268\n\nTS Yom Kippur Neilah Service
DTSTART;TZID=America/New_York:20150923T170000
DTEND;TZID=America/New_York:20150923T170000
END:VEVENT
END:VCALENDAR
