BEGIN:VCALENDAR
PRODID:-//eluceo/ical//2.0/EN
VERSION:2.0
CALSCALE:GREGORIAN
BEGIN:VEVENT
UID:ac4e0a58cd9c1c11230867b8a093574a
DTSTAMP:20260422T185602Z
SUMMARY:BT  Yom Kippur Mincha-Maariv-Neilah Service
DESCRIPTION:Jewish Federation of Greater Naples\nCommunity Calendar\nhttps:
 //jewishnaples.org/calendar/calendar16266\n\nBT  Yom Kippur Mincha-Maariv-
 Neilah Service
DTSTART;TZID=America/New_York:20150923T170000
DTEND;TZID=America/New_York:20150923T170000
END:VEVENT
END:VCALENDAR
