BEGIN:VCALENDAR
PRODID:-//eluceo/ical//2.0/EN
VERSION:2.0
CALSCALE:GREGORIAN
BEGIN:VEVENT
UID:846e901a48b9b08b732584304f7d992a
DTSTAMP:20260420T103320Z
SUMMARY:NJC Yizkor Service
DESCRIPTION:Jewish Federation of Greater Naples\nCommunity Calendar\nhttps:
 //jewishnaples.org/calendar/calendar16265\n\nNJC Yizkor Service
DTSTART;TZID=America/New_York:20150923T160000
DTEND;TZID=America/New_York:20150923T160000
END:VEVENT
END:VCALENDAR
