BEGIN:VCALENDAR
PRODID:-//eluceo/ical//2.0/EN
VERSION:2.0
CALSCALE:GREGORIAN
BEGIN:VEVENT
UID:1c509335f16da376045953a5e550e258
DTSTAMP:20260423T075537Z
SUMMARY:TS Yom Kippur Afternoon Study Session
DESCRIPTION:Jewish Federation of Greater Naples\nCommunity Calendar\nhttps:
 //jewishnaples.org/calendar/calendar16262\n\nTS Yom Kippur Afternoon Study
  Session
DTSTART;TZID=America/New_York:20150923T140000
DTEND;TZID=America/New_York:20150923T140000
END:VEVENT
END:VCALENDAR
