BEGIN:VCALENDAR
PRODID:-//eluceo/ical//2.0/EN
VERSION:2.0
CALSCALE:GREGORIAN
BEGIN:VEVENT
UID:11070c40023af8e3875f31ba84a2eaa9
DTSTAMP:20260422T203643Z
SUMMARY:BT Yom Kippur Yizkor Service
DESCRIPTION:Jewish Federation of Greater Naples\nCommunity Calendar\nhttps:
 //jewishnaples.org/calendar/calendar16260\n\nBT Yom Kippur Yizkor Service
DTSTART;TZID=America/New_York:20150923T110000
DTEND;TZID=America/New_York:20150923T110000
END:VEVENT
END:VCALENDAR
