BEGIN:VCALENDAR
PRODID:-//eluceo/ical//2.0/EN
VERSION:2.0
CALSCALE:GREGORIAN
BEGIN:VEVENT
UID:12f153514659485e5d5ea29f1770ec21
DTSTAMP:20260423T094846Z
SUMMARY:NJC Yom Kippur Service
DESCRIPTION:Jewish Federation of Greater Naples\nCommunity Calendar\nhttps:
 //jewishnaples.org/calendar/calendar16258\n\nNJC Yom Kippur Service
DTSTART;TZID=America/New_York:20150923T100000
DTEND;TZID=America/New_York:20150923T100000
END:VEVENT
END:VCALENDAR
