BEGIN:VCALENDAR
PRODID:-//eluceo/ical//2.0/EN
VERSION:2.0
CALSCALE:GREGORIAN
BEGIN:VEVENT
UID:80c9e811b915cf4dab2a93cb64aded73
DTSTAMP:20260424T002228Z
SUMMARY:JCMI  Yom Kippur Morning Service
DESCRIPTION:Jewish Federation of Greater Naples\nCommunity Calendar\nhttps:
 //jewishnaples.org/calendar/calendar16257\n\nJCMI  Yom Kippur Morning Serv
 ice
DTSTART;TZID=America/New_York:20150923T100000
DTEND;TZID=America/New_York:20150923T100000
END:VEVENT
END:VCALENDAR
