BEGIN:VCALENDAR
PRODID:-//eluceo/ical//2.0/EN
VERSION:2.0
CALSCALE:GREGORIAN
BEGIN:VEVENT
UID:115237b556f6873bfd4a39308f7a9753
DTSTAMP:20260424T040531Z
SUMMARY:JFCC OFFICE CLOSED in Observance of Yom Kippur
DESCRIPTION:Jewish Federation of Greater Naples\nCommunity Calendar\nhttps:
 //jewishnaples.org/calendar/calendar16252\n\nJFCC OFFICE CLOSED in Observa
 nce of Yom Kippur
DTSTART;TZID=America/New_York:20150923T080000
DTEND;TZID=America/New_York:20150923T090000
END:VEVENT
END:VCALENDAR
