BEGIN:VCALENDAR
PRODID:-//eluceo/ical//2.0/EN
VERSION:2.0
CALSCALE:GREGORIAN
BEGIN:VEVENT
UID:34dcf0c3ec4c321dfb9c99ec6ad74d20
DTSTAMP:20260422T163947Z
SUMMARY:YOM KIPPUR
DESCRIPTION:Jewish Federation of Greater Naples\nCommunity Calendar\nhttps:
 //jewishnaples.org/calendar/calendar16251\n\nYOM KIPPUR
DTSTART;TZID=America/New_York:20150923T000000
DTEND;TZID=America/New_York:20150924T000000
END:VEVENT
END:VCALENDAR
