BEGIN:VCALENDAR
PRODID:-//eluceo/ical//2.0/EN
VERSION:2.0
CALSCALE:GREGORIAN
BEGIN:VEVENT
UID:2b612dba3ecd733d8a21e84b52354ba9
DTSTAMP:20260422T165814Z
SUMMARY:NJC Kol Nidre Service
DESCRIPTION:Jewish Federation of Greater Naples\nCommunity Calendar\nhttps:
 //jewishnaples.org/calendar/calendar16248\n\nNJC Kol Nidre Service
DTSTART;TZID=America/New_York:20150922T193000
DTEND;TZID=America/New_York:20150922T193000
END:VEVENT
END:VCALENDAR
