BEGIN:VCALENDAR
PRODID:-//eluceo/ical//2.0/EN
VERSION:2.0
CALSCALE:GREGORIAN
BEGIN:VEVENT
UID:c70dc2408ca26e5cf57322a3560fc072
DTSTAMP:20260424T015135Z
SUMMARY:JRCA Event
DESCRIPTION:Jewish Federation of Greater Naples\nCommunity Calendar\nhttps:
 //jewishnaples.org/calendar/calendar16239\n\nJRCA Event
DTSTART;TZID=America/New_York:20150920T150000
DTEND;TZID=America/New_York:20150920T150000
END:VEVENT
END:VCALENDAR
