BEGIN:VCALENDAR
PRODID:-//eluceo/ical//2.0/EN
VERSION:2.0
CALSCALE:GREGORIAN
BEGIN:VEVENT
UID:fa3506556f8c0975dc66acfcc2f9b5db
DTSTAMP:20260422T153759Z
SUMMARY:TS Services
DESCRIPTION:Jewish Federation of Greater Naples\nCommunity Calendar\nhttps:
 //jewishnaples.org/calendar/calendar16232\n\nTS Services
DTSTART;TZID=America/New_York:20150918T193000
DTEND;TZID=America/New_York:20150918T193000
END:VEVENT
END:VCALENDAR
