BEGIN:VCALENDAR
PRODID:-//eluceo/ical//2.0/EN
VERSION:2.0
CALSCALE:GREGORIAN
BEGIN:VEVENT
UID:a2830d4bd0606ac34bf14756df56f53e
DTSTAMP:20260422T213805Z
SUMMARY:TS  Executive Committee Meeting
DESCRIPTION:Jewish Federation of Greater Naples\nCommunity Calendar\nhttps:
 //jewishnaples.org/calendar/calendar16230\n\nTS  Executive Committee Meeti
 ng
DTSTART;TZID=America/New_York:20150917T190000
DTEND;TZID=America/New_York:20150917T190000
END:VEVENT
END:VCALENDAR
