BEGIN:VCALENDAR
PRODID:-//eluceo/ical//2.0/EN
VERSION:2.0
CALSCALE:GREGORIAN
BEGIN:VEVENT
UID:f85ababb0c96bccf6390392ee6600359
DTSTAMP:20260423T234134Z
SUMMARY:BT  Board Meeting
DESCRIPTION:Jewish Federation of Greater Naples\nCommunity Calendar\nhttps:
 //jewishnaples.org/calendar/calendar16228\n\nBT  Board Meeting
DTSTART;TZID=America/New_York:20150917T160000
DTEND;TZID=America/New_York:20150917T160000
END:VEVENT
END:VCALENDAR
