BEGIN:VCALENDAR
PRODID:-//eluceo/ical//2.0/EN
VERSION:2.0
CALSCALE:GREGORIAN
BEGIN:VEVENT
UID:37c1782015b73ed3103ac89d4be944de
DTSTAMP:20260422T225103Z
SUMMARY:CHA  Hebrew School
DESCRIPTION:Jewish Federation of Greater Naples\nCommunity Calendar\nhttps:
 //jewishnaples.org/calendar/calendar16225\n\nCHA  Hebrew School
DTSTART;TZID=America/New_York:20150916T163000
DTEND;TZID=America/New_York:20150916T163000
END:VEVENT
END:VCALENDAR
