BEGIN:VCALENDAR
PRODID:-//eluceo/ical//2.0/EN
VERSION:2.0
CALSCALE:GREGORIAN
BEGIN:VEVENT
UID:fe08691969c04bff22a5afe45698fe05
DTSTAMP:20260424T040624Z
SUMMARY:TS  Rosh Hashanah Service
DESCRIPTION:Jewish Federation of Greater Naples\nCommunity Calendar\nhttps:
 //jewishnaples.org/calendar/calendar16219\n\nTS  Rosh Hashanah Service
DTSTART;TZID=America/New_York:20150915T100000
DTEND;TZID=America/New_York:20150915T100000
END:VEVENT
END:VCALENDAR
