BEGIN:VCALENDAR
PRODID:-//eluceo/ical//2.0/EN
VERSION:2.0
CALSCALE:GREGORIAN
BEGIN:VEVENT
UID:d6acb18a8ddef0dbebcd5b881fc64963
DTSTAMP:20260422T031915Z
SUMMARY:BT  Rosh Hashana Service
DESCRIPTION:Jewish Federation of Greater Naples\nCommunity Calendar\nhttps:
 //jewishnaples.org/calendar/calendar16217\n\nBT  Rosh Hashana Service
DTSTART;TZID=America/New_York:20150915T093000
DTEND;TZID=America/New_York:20150915T093000
END:VEVENT
END:VCALENDAR
