BEGIN:VCALENDAR
PRODID:-//eluceo/ical//2.0/EN
VERSION:2.0
CALSCALE:GREGORIAN
BEGIN:VEVENT
UID:ae63695bb7e2978f54a27fca6ec86e98
DTSTAMP:20260422T171622Z
SUMMARY:BT  Rosh Hashana Service
DESCRIPTION:Jewish Federation of Greater Naples\nCommunity Calendar\nhttps:
 //jewishnaples.org/calendar/calendar16205\n\nBT  Rosh Hashana Service
DTSTART;TZID=America/New_York:20150914T093000
DTEND;TZID=America/New_York:20150914T093000
END:VEVENT
END:VCALENDAR
