BEGIN:VCALENDAR
PRODID:-//eluceo/ical//2.0/EN
VERSION:2.0
CALSCALE:GREGORIAN
BEGIN:VEVENT
UID:9ea0fd6e13e9e27a6f584e4ddf4ba863
DTSTAMP:20260424T051435Z
SUMMARY:TS  Offices Closed
DESCRIPTION:Jewish Federation of Greater Naples\nCommunity Calendar\nhttps:
 //jewishnaples.org/calendar/calendar16204\n\nTS  Offices Closed
DTSTART;TZID=America/New_York:20150914T090000
DTEND;TZID=America/New_York:20150914T090000
END:VEVENT
END:VCALENDAR
