BEGIN:VCALENDAR
PRODID:-//eluceo/ical//2.0/EN
VERSION:2.0
CALSCALE:GREGORIAN
BEGIN:VEVENT
UID:7e949f2c45960742fa99387bf848f356
DTSTAMP:20260421T234508Z
SUMMARY:JCMI  Office Closed
DESCRIPTION:Jewish Federation of Greater Naples\nCommunity Calendar\nhttps:
 //jewishnaples.org/calendar/calendar16203\n\nJCMI  Office Closed
DTSTART;TZID=America/New_York:20150914T090000
DTEND;TZID=America/New_York:20150914T090000
END:VEVENT
END:VCALENDAR
