BEGIN:VCALENDAR
PRODID:-//eluceo/ical//2.0/EN
VERSION:2.0
CALSCALE:GREGORIAN
BEGIN:VEVENT
UID:9e1cae550054981a779b3d219af072c8
DTSTAMP:20260422T185552Z
SUMMARY:CHA  Rosh Hashana Service & Community Dinner
DESCRIPTION:Jewish Federation of Greater Naples\nCommunity Calendar\nhttps:
 //jewishnaples.org/calendar/calendar16197\n\nCHA  Rosh Hashana Service & C
 ommunity Dinner
DTSTART;TZID=America/New_York:20150913T190000
DTEND;TZID=America/New_York:20150913T190000
END:VEVENT
END:VCALENDAR
