BEGIN:VCALENDAR
PRODID:-//eluceo/ical//2.0/EN
VERSION:2.0
CALSCALE:GREGORIAN
BEGIN:VEVENT
UID:83f3e5d62206d291dfadf5f12e7ede64
DTSTAMP:20260421T155107Z
SUMMARY:BT  Erev Rosh Hashana Service
DESCRIPTION:Jewish Federation of Greater Naples\nCommunity Calendar\nhttps:
 //jewishnaples.org/calendar/calendar16196\n\nBT  Erev Rosh Hashana Service
DTSTART;TZID=America/New_York:20150913T181500
DTEND;TZID=America/New_York:20150913T181500
END:VEVENT
END:VCALENDAR
