BEGIN:VCALENDAR
PRODID:-//eluceo/ical//2.0/EN
VERSION:2.0
CALSCALE:GREGORIAN
BEGIN:VEVENT
UID:855d6692f50ac3d7e8a3196381c9fd01
DTSTAMP:20260420T035222Z
SUMMARY:TS Services
DESCRIPTION:Jewish Federation of Greater Naples\nCommunity Calendar\nhttps:
 //jewishnaples.org/calendar/calendar16189\n\nTS Services
DTSTART;TZID=America/New_York:20150911T193000
DTEND;TZID=America/New_York:20150911T193000
END:VEVENT
END:VCALENDAR
