BEGIN:VCALENDAR
PRODID:-//eluceo/ical//2.0/EN
VERSION:2.0
CALSCALE:GREGORIAN
BEGIN:VEVENT
UID:345ec388da233d162b875bceaf95126c
DTSTAMP:20260422T012612Z
SUMMARY:NJC Services
DESCRIPTION:Jewish Federation of Greater Naples\nCommunity Calendar\nhttps:
 //jewishnaples.org/calendar/calendar16188\n\nNJC Services
DTSTART;TZID=America/New_York:20150911T193000
DTEND;TZID=America/New_York:20150911T200000
END:VEVENT
END:VCALENDAR
