BEGIN:VCALENDAR
PRODID:-//eluceo/ical//2.0/EN
VERSION:2.0
CALSCALE:GREGORIAN
BEGIN:VEVENT
UID:0a8c242370f7fb4ed3252099b30c8b44
DTSTAMP:20260421T013459Z
SUMMARY:BT Service
DESCRIPTION:Jewish Federation of Greater Naples\nCommunity Calendar\nhttps:
 //jewishnaples.org/calendar/calendar16187\n\nBT Service
DTSTART;TZID=America/New_York:20150911T181500
DTEND;TZID=America/New_York:20150911T181500
END:VEVENT
END:VCALENDAR
