BEGIN:VCALENDAR
PRODID:-//eluceo/ical//2.0/EN
VERSION:2.0
CALSCALE:GREGORIAN
BEGIN:VEVENT
UID:e2c5fcc435f0f7a59ac39d1cbae16ae6
DTSTAMP:20260423T095055Z
SUMMARY:BBYO  Youth Activity
DESCRIPTION:Jewish Federation of Greater Naples\nCommunity Calendar\nhttps:
 //jewishnaples.org/calendar/calendar16186\n\nBBYO  Youth Activity
DTSTART;TZID=America/New_York:20150910T180000
DTEND;TZID=America/New_York:20150910T180000
END:VEVENT
END:VCALENDAR
