BEGIN:VCALENDAR
PRODID:-//eluceo/ical//2.0/EN
VERSION:2.0
CALSCALE:GREGORIAN
BEGIN:VEVENT
UID:e2a20b71e31e0a9b78d36efb861c5a8d
DTSTAMP:20260424T104124Z
SUMMARY:JCMI  Office Closed
DESCRIPTION:Jewish Federation of Greater Naples\nCommunity Calendar\nhttps:
 //jewishnaples.org/calendar/calendar16172\n\nJCMI  Office Closed
DTSTART;TZID=America/New_York:20150907T090000
DTEND;TZID=America/New_York:20150907T090000
END:VEVENT
END:VCALENDAR
