BEGIN:VCALENDAR
PRODID:-//eluceo/ical//2.0/EN
VERSION:2.0
CALSCALE:GREGORIAN
BEGIN:VEVENT
UID:017ab9a6e6341afb261b37a522aaa28a
DTSTAMP:20260422T063416Z
SUMMARY:Labor Day
DESCRIPTION:Jewish Federation of Greater Naples\nCommunity Calendar\nhttps:
 //jewishnaples.org/calendar/calendar16170\n\nLabor Day
DTSTART;TZID=America/New_York:20150907T000000
DTEND;TZID=America/New_York:20150908T000000
END:VEVENT
END:VCALENDAR
