BEGIN:VCALENDAR
PRODID:-//eluceo/ical//2.0/EN
VERSION:2.0
CALSCALE:GREGORIAN
BEGIN:VEVENT
UID:e955e58598df474a694ac3464d84914e
DTSTAMP:20260423T145709Z
SUMMARY:BT  Selichot Service & Film
DESCRIPTION:Jewish Federation of Greater Naples\nCommunity Calendar\nhttps:
 //jewishnaples.org/calendar/calendar16168\n\nBT  Selichot Service & Film
DTSTART;TZID=America/New_York:20150905T193000
DTEND;TZID=America/New_York:20150905T193000
END:VEVENT
END:VCALENDAR
