BEGIN:VCALENDAR
PRODID:-//eluceo/ical//2.0/EN
VERSION:2.0
CALSCALE:GREGORIAN
BEGIN:VEVENT
UID:e4d4ae5b3b3e7476d7b1bd8593030b2d
DTSTAMP:20260422T113732Z
SUMMARY:NJC Services
DESCRIPTION:Jewish Federation of Greater Naples\nCommunity Calendar\nhttps:
 //jewishnaples.org/calendar/calendar16161\n\nNJC Services
DTSTART;TZID=America/New_York:20150904T193000
DTEND;TZID=America/New_York:20150904T200000
END:VEVENT
END:VCALENDAR
