BEGIN:VCALENDAR
PRODID:-//eluceo/ical//2.0/EN
VERSION:2.0
CALSCALE:GREGORIAN
BEGIN:VEVENT
UID:448bcc9764731fd7c1b5cba2a126bd6a
DTSTAMP:20260422T000708Z
SUMMARY:JCMI  Selichot Dinner
DESCRIPTION:Jewish Federation of Greater Naples\nCommunity Calendar\nhttps:
 //jewishnaples.org/calendar/calendar16159\n\nJCMI  Selichot Dinner
DTSTART;TZID=America/New_York:20150904T183000
DTEND;TZID=America/New_York:20150904T183000
END:VEVENT
END:VCALENDAR
