BEGIN:VCALENDAR
PRODID:-//eluceo/ical//2.0/EN
VERSION:2.0
CALSCALE:GREGORIAN
BEGIN:VEVENT
UID:7da5c53096ec87453db318a21d854d1e
DTSTAMP:20260423T114518Z
SUMMARY:JCRC Meeting
DESCRIPTION:Jewish Federation of Greater Naples\nCommunity Calendar\nhttps:
 //jewishnaples.org/calendar/calendar16154\n\nJCRC Meeting
DTSTART;TZID=America/New_York:20150902T133000
DTEND;TZID=America/New_York:20150902T133000
END:VEVENT
END:VCALENDAR
