BEGIN:VCALENDAR
PRODID:-//eluceo/ical//2.0/EN
VERSION:2.0
CALSCALE:GREGORIAN
BEGIN:VEVENT
UID:e69b0339705a659fbcb5c42beb28430e
DTSTAMP:20260424T022738Z
SUMMARY:CJD - Committee Meeting
DESCRIPTION:Jewish Federation of Greater Naples\nCommunity Calendar\nhttps:
 //jewishnaples.org/calendar/calendar16150\n\nCJD - Committee Meeting
DTSTART;TZID=America/New_York:20150901T133000
DTEND;TZID=America/New_York:20150901T133000
END:VEVENT
END:VCALENDAR
