BEGIN:VCALENDAR
PRODID:-//eluceo/ical//2.0/EN
VERSION:2.0
CALSCALE:GREGORIAN
BEGIN:VEVENT
UID:9f6177a3ddef487741cd896afc2ae24e
DTSTAMP:20260423T072534Z
SUMMARY:BT  Rabbi's Study Course
DESCRIPTION:Jewish Federation of Greater Naples\nCommunity Calendar\nhttps:
 //jewishnaples.org/calendar/calendar16149\n\nBT  Rabbi's Study Course
DTSTART;TZID=America/New_York:20150901T121500
DTEND;TZID=America/New_York:20150901T121500
END:VEVENT
END:VCALENDAR
