BEGIN:VCALENDAR
PRODID:-//eluceo/ical//2.0/EN
VERSION:2.0
CALSCALE:GREGORIAN
BEGIN:VEVENT
UID:479b702c88d260a0dc9db3c6bce1177b
DTSTAMP:20260423T005557Z
SUMMARY:Fed Star Editorial Deadline
DESCRIPTION:Jewish Federation of Greater Naples\nCommunity Calendar\nhttps:
 //jewishnaples.org/calendar/calendar16146\n\nFed Star Editorial Deadline
DTSTART;TZID=America/New_York:20150901T000000
DTEND;TZID=America/New_York:20150902T000000
END:VEVENT
END:VCALENDAR
