BEGIN:VCALENDAR
PRODID:-//eluceo/ical//2.0/EN
VERSION:2.0
CALSCALE:GREGORIAN
BEGIN:VEVENT
UID:1acf75e851f169c55968d7e7a8d6898b
DTSTAMP:20260424T014615Z
SUMMARY:BT  Sunday School
DESCRIPTION:Jewish Federation of Greater Naples\nCommunity Calendar\nhttps:
 //jewishnaples.org/calendar/calendar16143\n\nBT  Sunday School
DTSTART;TZID=America/New_York:20150830T090000
DTEND;TZID=America/New_York:20150830T090000
END:VEVENT
END:VCALENDAR
