BEGIN:VCALENDAR
PRODID:-//eluceo/ical//2.0/EN
VERSION:2.0
CALSCALE:GREGORIAN
BEGIN:VEVENT
UID:1c863205802ad1974cd04d81f59e2fa1
DTSTAMP:20260424T033600Z
SUMMARY:BT Services
DESCRIPTION:Jewish Federation of Greater Naples\nCommunity Calendar\nhttps:
 //jewishnaples.org/calendar/calendar16140\n\nBT Services
DTSTART;TZID=America/New_York:20150829T093000
DTEND;TZID=America/New_York:20150829T093000
END:VEVENT
END:VCALENDAR
