BEGIN:VCALENDAR
PRODID:-//eluceo/ical//2.0/EN
VERSION:2.0
CALSCALE:GREGORIAN
BEGIN:VEVENT
UID:0cde2fd2aed32c6edf75449d0533ddd2
DTSTAMP:20260422T221540Z
SUMMARY:BT  Rabbi's Study Course
DESCRIPTION:Jewish Federation of Greater Naples\nCommunity Calendar\nhttps:
 //jewishnaples.org/calendar/calendar16132\n\nBT  Rabbi's Study Course
DTSTART;TZID=America/New_York:20150826T193000
DTEND;TZID=America/New_York:20150826T193000
END:VEVENT
END:VCALENDAR
