BEGIN:VCALENDAR
PRODID:-//eluceo/ical//2.0/EN
VERSION:2.0
CALSCALE:GREGORIAN
BEGIN:VEVENT
UID:a54ec7723e69e69d17ab1f50d3e8ddb4
DTSTAMP:20260422T085528Z
SUMMARY:BT  Rabbi's Study Course
DESCRIPTION:Jewish Federation of Greater Naples\nCommunity Calendar\nhttps:
 //jewishnaples.org/calendar/calendar16128\n\nBT  Rabbi's Study Course
DTSTART;TZID=America/New_York:20150825T160000
DTEND;TZID=America/New_York:20150825T160000
END:VEVENT
END:VCALENDAR
