BEGIN:VCALENDAR
PRODID:-//eluceo/ical//2.0/EN
VERSION:2.0
CALSCALE:GREGORIAN
BEGIN:VEVENT
UID:ba83872ffa27522b9818da98f4c429f7
DTSTAMP:20260423T163957Z
SUMMARY:JFCC Federation Summer Picnic
DESCRIPTION:Jewish Federation of Greater Naples\nCommunity Calendar\nhttps:
 //jewishnaples.org/calendar/calendar16126\n\nJFCC Federation Summer Picnic
DTSTART;TZID=America/New_York:20150823T130000
DTEND;TZID=America/New_York:20150823T130000
END:VEVENT
END:VCALENDAR
