BEGIN:VCALENDAR
PRODID:-//eluceo/ical//2.0/EN
VERSION:2.0
CALSCALE:GREGORIAN
BEGIN:VEVENT
UID:6c43e9be31bd8acac592758469ceabe4
DTSTAMP:20260423T162132Z
SUMMARY:BT  Youth Education Program Open House
DESCRIPTION:Jewish Federation of Greater Naples\nCommunity Calendar\nhttps:
 //jewishnaples.org/calendar/calendar16124\n\nBT  Youth Education Program O
 pen House
DTSTART;TZID=America/New_York:20150823T093000
DTEND;TZID=America/New_York:20150823T093000
END:VEVENT
END:VCALENDAR
