BEGIN:VCALENDAR
PRODID:-//eluceo/ical//2.0/EN
VERSION:2.0
CALSCALE:GREGORIAN
BEGIN:VEVENT
UID:d53bd0d11e258c279a9f9b4d138d878e
DTSTAMP:20260423T190817Z
SUMMARY:BT  Havdalah at the Beach
DESCRIPTION:Jewish Federation of Greater Naples\nCommunity Calendar\nhttps:
 //jewishnaples.org/calendar/calendar16122\n\nBT  Havdalah at the Beach
DTSTART;TZID=America/New_York:20150822T193000
DTEND;TZID=America/New_York:20150822T193000
END:VEVENT
END:VCALENDAR
