BEGIN:VCALENDAR
PRODID:-//eluceo/ical//2.0/EN
VERSION:2.0
CALSCALE:GREGORIAN
BEGIN:VEVENT
UID:af1f9746b302efc3dcb90dc960a7a856
DTSTAMP:20260423T095146Z
SUMMARY:TS Services
DESCRIPTION:Jewish Federation of Greater Naples\nCommunity Calendar\nhttps:
 //jewishnaples.org/calendar/calendar16117\n\nTS Services
DTSTART;TZID=America/New_York:20150821T193000
DTEND;TZID=America/New_York:20150821T193000
END:VEVENT
END:VCALENDAR
