BEGIN:VCALENDAR
PRODID:-//eluceo/ical//2.0/EN
VERSION:2.0
CALSCALE:GREGORIAN
BEGIN:VEVENT
UID:13bee4c74c7604fb6d372e2136036dc2
DTSTAMP:20260423T120226Z
SUMMARY:JCMI  Bridge
DESCRIPTION:Jewish Federation of Greater Naples\nCommunity Calendar\nhttps:
 //jewishnaples.org/calendar/calendar16111\n\nJCMI  Bridge
DTSTART;TZID=America/New_York:20150819T130000
DTEND;TZID=America/New_York:20150819T130000
END:VEVENT
END:VCALENDAR
