BEGIN:VCALENDAR
PRODID:-//eluceo/ical//2.0/EN
VERSION:2.0
CALSCALE:GREGORIAN
BEGIN:VEVENT
UID:efa999de159fbfefb9c4700822f6df67
DTSTAMP:20260421T032642Z
SUMMARY:TS Services
DESCRIPTION:Jewish Federation of Greater Naples\nCommunity Calendar\nhttps:
 //jewishnaples.org/calendar/calendar16100\n\nTS Services
DTSTART;TZID=America/New_York:20150815T100000
DTEND;TZID=America/New_York:20150815T100000
END:VEVENT
END:VCALENDAR
