BEGIN:VCALENDAR
PRODID:-//eluceo/ical//2.0/EN
VERSION:2.0
CALSCALE:GREGORIAN
BEGIN:VEVENT
UID:23ca5d8a644eec4164574051c425de34
DTSTAMP:20260423T053852Z
SUMMARY:TS Services
DESCRIPTION:Jewish Federation of Greater Naples\nCommunity Calendar\nhttps:
 //jewishnaples.org/calendar/calendar16095\n\nTS Services
DTSTART;TZID=America/New_York:20150814T193000
DTEND;TZID=America/New_York:20150814T193000
END:VEVENT
END:VCALENDAR
