BEGIN:VCALENDAR
PRODID:-//eluceo/ical//2.0/EN
VERSION:2.0
CALSCALE:GREGORIAN
BEGIN:VEVENT
UID:1b066bd1ee61ea11a869f200c11b286f
DTSTAMP:20260422T171709Z
SUMMARY:BT  Rabbi's Study Course
DESCRIPTION:Jewish Federation of Greater Naples\nCommunity Calendar\nhttps:
 //jewishnaples.org/calendar/calendar16091\n\nBT  Rabbi's Study Course
DTSTART;TZID=America/New_York:20150812T193000
DTEND;TZID=America/New_York:20150812T193000
END:VEVENT
END:VCALENDAR
