BEGIN:VCALENDAR
PRODID:-//eluceo/ical//2.0/EN
VERSION:2.0
CALSCALE:GREGORIAN
BEGIN:VEVENT
UID:a77e191d0a9c77b387b8ac3947bf6343
DTSTAMP:20260423T160637Z
SUMMARY:IAC Film Presentation
DESCRIPTION:Jewish Federation of Greater Naples\nCommunity Calendar\nhttps:
 //jewishnaples.org/calendar/calendar16090\n\nIAC Film Presentation
DTSTART;TZID=America/New_York:20150812T140000
DTEND;TZID=America/New_York:20150812T140000
END:VEVENT
END:VCALENDAR
