BEGIN:VCALENDAR
PRODID:-//eluceo/ical//2.0/EN
VERSION:2.0
CALSCALE:GREGORIAN
BEGIN:VEVENT
UID:0a502d4e6bb97d01697ca8169b8e2746
DTSTAMP:20260421T013939Z
SUMMARY:TS Tuesdays w/Torah
DESCRIPTION:Jewish Federation of Greater Naples\nCommunity Calendar\nhttps:
 //jewishnaples.org/calendar/calendar16084\n\nTS Tuesdays w/Torah
DTSTART;TZID=America/New_York:20150811T120000
DTEND;TZID=America/New_York:20150811T120000
END:VEVENT
END:VCALENDAR
